BEGIN:VCALENDAR
VERSION:2.0
PRODID:-//Zavod Amo - ECPv6.15.14//NONSGML v1.0//EN
CALSCALE:GREGORIAN
METHOD:PUBLISH
X-WR-CALNAME:Zavod Amo
X-ORIGINAL-URL:https://zavod-amo.si
X-WR-CALDESC:Dogodki za Zavod Amo
REFRESH-INTERVAL;VALUE=DURATION:PT1H
X-Robots-Tag:noindex
X-PUBLISHED-TTL:PT1H
BEGIN:VTIMEZONE
TZID:Europe/Ljubljana
BEGIN:DAYLIGHT
TZOFFSETFROM:+0100
TZOFFSETTO:+0200
TZNAME:CEST
DTSTART:20170326T010000
END:DAYLIGHT
BEGIN:STANDARD
TZOFFSETFROM:+0200
TZOFFSETTO:+0100
TZNAME:CET
DTSTART:20171029T010000
END:STANDARD
BEGIN:DAYLIGHT
TZOFFSETFROM:+0100
TZOFFSETTO:+0200
TZNAME:CEST
DTSTART:20180325T010000
END:DAYLIGHT
BEGIN:STANDARD
TZOFFSETFROM:+0200
TZOFFSETTO:+0100
TZNAME:CET
DTSTART:20181028T010000
END:STANDARD
BEGIN:DAYLIGHT
TZOFFSETFROM:+0100
TZOFFSETTO:+0200
TZNAME:CEST
DTSTART:20190331T010000
END:DAYLIGHT
BEGIN:STANDARD
TZOFFSETFROM:+0200
TZOFFSETTO:+0100
TZNAME:CET
DTSTART:20191027T010000
END:STANDARD
BEGIN:DAYLIGHT
TZOFFSETFROM:+0100
TZOFFSETTO:+0200
TZNAME:CEST
DTSTART:20200329T010000
END:DAYLIGHT
BEGIN:STANDARD
TZOFFSETFROM:+0200
TZOFFSETTO:+0100
TZNAME:CET
DTSTART:20201025T010000
END:STANDARD
END:VTIMEZONE
BEGIN:VEVENT
DTSTART;TZID=Europe/Ljubljana:20190130T180000
DTEND;TZID=Europe/Ljubljana:20190130T193000
DTSTAMP:20260423T001635
CREATED:20190116T003506Z
LAST-MODIFIED:20190711T130526Z
UID:1393-1548871200-1548876600@zavod-amo.si
SUMMARY:Reči NE in pokvarjena plošča
DESCRIPTION:Vaš »da« naj bo »da« in vaš »ne« naj bo »ne«\n \nReči NE in pokvarjena plošča \nsta tehniki  s katerima v asertivnosti dosegamo asertivne cilje. \nNezmožnost reči ne\, ko bi bilo to glede na našo situacijo primerno\, nas sili v neželena dejanja\, preko česar si znižujemo samospoštovanje. \nNe le v službi tudi doma v družini je treba znati reči ne. Vztrajnost se obrestuje. Presenečeni bi bili\, če bi vedeli\, kako učinkovite so vztrajne povedi.  Ko zavrnemo prošnjo\, je pomembno\, da rečemo »ne« na jasen\, odločen in miren način\, brez nepotrebnega opravičevanja. V primeru\, da je naš sogovornik zelo vztrajen\, lahko uporabimo še tehniko pokvarjene plošče. \nVztrajnost v naj bo tudi v stvareh\, odločitvah\, ciljih\, nalogah\, namerah\, ki niso povezane z odnosom do drugih\, so pa nedvomno povezane do odnosa do sebe.  Tudi v odnosu do sebe si z vztajnostjo in dokončanjem nalog in doseganjem ciljev krepimo samospoštovanje.
URL:https://zavod-amo.si/dogodek/vas-da-naj-bo-da-in-vas-ne-naj-bo-ne/
LOCATION:Zavod Amo\, Parmova 14\, Ljubljana\, 1000\, Slovenija
CATEGORIES:asertivnost,delavnica,izobraževanje,samospoštovanje,samozavest
ORGANIZER;CN="Zavod Amo":MAILTO:info@zavod-amo.si
END:VEVENT
BEGIN:VEVENT
DTSTART;TZID=Europe/Ljubljana:20190124T173000
DTEND;TZID=Europe/Ljubljana:20190124T203000
DTSTAMP:20260423T001635
CREATED:20180415T115508Z
LAST-MODIFIED:20190711T125734Z
UID:919-1548351000-1548361800@zavod-amo.si
SUMMARY:Trening asertivnosti
DESCRIPTION:Treningi asertivnosti so delavnice za učinkovitejšo komunikacijo z drugimi in višje samospoštovanje ter razvijanje samozavesti. Asertivnost predstavlja ključ do zadovoljstva v medosebnih odnosih ter tudi ključ do uspeha na profesionalnem področju. \nProgram traja 12 ur in vključuje 3 skupinska srečanja\, ki trajajo 4 šolske ure. Udeleženci skupin so vabljeni tudi na postsrečanja. \nTreningi asertivnosti potekajo v majhnih skupinah do 12 članov. \nNa treningih sledimo osnovnim smernicam in teoretičnim postavkam treninga asertivnosti. Najboljše rezultate dosegamo s fleksibilnim prilagajanjem  posebnostim  vsake skupine. \nŠtudentje in brezposelni s potrdilom imajo 10 % popusta.
URL:https://zavod-amo.si/dogodek/trening-asertivnosti-sobota/
LOCATION:Zavod Amo\, Parmova 14\, Ljubljana\, 1000\, Slovenija
CATEGORIES:asertivnost,delavnica,izobraževanje,komunikacija,konflikti,samospoštovanje,samozavest,trening asertivnosti
ORGANIZER;CN="Zavod Amo":MAILTO:info@zavod-amo.si
END:VEVENT
BEGIN:VEVENT
DTSTART;TZID=Europe/Ljubljana:20180126T190000
DTEND;TZID=Europe/Ljubljana:20180126T213000
DTSTAMP:20260423T001635
CREATED:20180120T111350Z
LAST-MODIFIED:20190711T142827Z
UID:670-1516993200-1517002200@zavod-amo.si
SUMMARY:Trening Asertivnosti
DESCRIPTION:  \nTreningi asertivnosti so delavnice za učinkovitejšo komunikacijo z drugimi in višje samospoštovanje ter razvijanje samozavesti. Asertivnost predstavlja ključ do zadovoljstva v medosebnih odnosih ter tudi ključ do uspeha na profesionalnem področju. \nProgram traja 25 ur\, oziroma štiri mesece (dve mesečni srečanji) in vključuje 8 skupinskih srečanj\, ki trajajo 3 šolske ure. Udeleženci skupin so vabljeni tudi na postsrečanja. \nTreningi asertivnosti potekajo v majhnih skupinah do 10 članov. \nNa treningih sledimo osnovnim smernicam in teoretičnim postavkam treninga asertivnosti. Najboljše rezultate dosegamo s fleksibilnim prilagajanjem  posebnostim  vsake skupine. \nPred samo delavnico bomo organizirali tudi uvodne razgovore\, zato vas bi ob prijavi poleg elektronskega naslova prosili še za telefonski kontakt.
URL:https://zavod-amo.si/dogodek/trening-asertivnosti/
LOCATION:Zavod Amo\, Parmova 14\, Ljubljana\, 1000\, Slovenija
CATEGORIES:asertivnost,trening asertivnosti
ORGANIZER;CN="Zavod Amo":MAILTO:info@zavod-amo.si
END:VEVENT
END:VCALENDAR